BEGIN:VCALENDAR
VERSION:2.0
PRODID:-//Kyle&#039;s Strong Heart - ECPv6.15.20//NONSGML v1.0//EN
CALSCALE:GREGORIAN
METHOD:PUBLISH
X-WR-CALNAME:Kyle&#039;s Strong Heart
X-ORIGINAL-URL:https://kylesstrongheart.com
X-WR-CALDESC:Events for Kyle&#039;s Strong Heart
REFRESH-INTERVAL;VALUE=DURATION:PT1H
X-Robots-Tag:noindex
X-PUBLISHED-TTL:PT1H
BEGIN:VTIMEZONE
TZID:UTC
BEGIN:STANDARD
TZOFFSETFROM:+0000
TZOFFSETTO:+0000
TZNAME:UTC
DTSTART:20220101T000000
END:STANDARD
END:VTIMEZONE
BEGIN:VEVENT
DTSTART;TZID=UTC:20251005T090000
DTEND;TZID=UTC:20251025T140000
DTSTAMP:20260420T165202
CREATED:20250806T202523Z
LAST-MODIFIED:20251008T183813Z
UID:1554-1759654800-1761400800@kylesstrongheart.com
SUMMARY:Heart Walk American Heart Association
DESCRIPTION:
URL:https://kylesstrongheart.com/event/heart-walk-american-heart-association/
LOCATION:Overpeck Park\, Ridgefield Park\, NJ
CATEGORIES:Past Events
END:VEVENT
BEGIN:VEVENT
DTSTART;VALUE=DATE:20250224
DTEND;VALUE=DATE:20250225
DTSTAMP:20260420T165202
CREATED:20250731T073627Z
LAST-MODIFIED:20251008T183916Z
UID:763-1740355200-1740441599@kylesstrongheart.com
SUMMARY:Hackensack High School – CPR Education
DESCRIPTION:Met with 4 junior health classes (200 students); shared Kyle’s Story and distributed CPR Anywhere Kits.
URL:https://kylesstrongheart.com/event/hackensack-high-school-cpr-education-3/
LOCATION:Hackensack High Schoo\, Hackensack\, NJ
CATEGORIES:Past Events
END:VEVENT
BEGIN:VEVENT
DTSTART;VALUE=DATE:20250213
DTEND;VALUE=DATE:20250214
DTSTAMP:20260420T165202
CREATED:20250731T072015Z
LAST-MODIFIED:20251008T184014Z
UID:742-1739404800-1739491199@kylesstrongheart.com
SUMMARY:Hackensack High School – CPR Education
DESCRIPTION:Spoke to 8 junior health classes (260 students)\, shared Kyle’s Story\, and distributed CPR Anywhere Kits.
URL:https://kylesstrongheart.com/event/hackensack-high-school-cpr-education/
LOCATION:Hackensack High School\, Hackensack\, NJ
CATEGORIES:Past Events
END:VEVENT
BEGIN:VEVENT
DTSTART;VALUE=DATE:20250131
DTEND;VALUE=DATE:20250201
DTSTAMP:20260420T165202
CREATED:20250731T073402Z
LAST-MODIFIED:20251008T183852Z
UID:760-1738281600-1738367999@kylesstrongheart.com
SUMMARY:Teaneck Charter School – Family Fun Night
DESCRIPTION:Shared Kyle’s Story and the importance of CPR at Family Fun Night.
URL:https://kylesstrongheart.com/event/teaneck-charter-school-family-fun-night/
LOCATION:Teaneck Charter School\, Teaneck\, NJ
CATEGORIES:Past Events
END:VEVENT
BEGIN:VEVENT
DTSTART;VALUE=DATE:20240622
DTEND;VALUE=DATE:20240623
DTSTAMP:20260420T165202
CREATED:20250731T072924Z
LAST-MODIFIED:20250731T072924Z
UID:753-1719014400-1719100799@kylesstrongheart.com
SUMMARY:Hackensack Juneteenth Celebration
DESCRIPTION:Community event featuring CPR education and CPR Anywhere Kits distribution.
URL:https://kylesstrongheart.com/event/hackensack-juneteenth-celebration/
LOCATION:Hackensack
CATEGORIES:Past Events
END:VEVENT
BEGIN:VEVENT
DTSTART;VALUE=DATE:20240517
DTEND;VALUE=DATE:20240518
DTSTAMP:20260420T165202
CREATED:20250731T072801Z
LAST-MODIFIED:20250731T072801Z
UID:751-1715904000-1715990399@kylesstrongheart.com
SUMMARY:Hackensack High School – CPR Education
DESCRIPTION:Engaged with 8 junior health classes (210 students); shared Kyle’s Story and distributed CPR Anywhere Kits.
URL:https://kylesstrongheart.com/event/hackensack-high-school-cpr-education-2/
LOCATION:Hackensack High School\, Hackensack\, NJ
CATEGORIES:Past Events
END:VEVENT
BEGIN:VEVENT
DTSTART;VALUE=DATE:20240510
DTEND;VALUE=DATE:20240511
DTSTAMP:20260420T165202
CREATED:20250731T072423Z
LAST-MODIFIED:20250731T072623Z
UID:749-1715299200-1715385599@kylesstrongheart.com
SUMMARY:Hometown Hero Award Nomination
DESCRIPTION:Nominated for Josh Gottheimer’s Hometown Hero’s Award for CPR advocacy.
URL:https://kylesstrongheart.com/event/hometown-hero-award-nomination/
CATEGORIES:Past Events
END:VEVENT
BEGIN:VEVENT
DTSTART;VALUE=DATE:20240318
DTEND;VALUE=DATE:20240319
DTSTAMP:20260420T165202
CREATED:20250731T072207Z
LAST-MODIFIED:20250731T072311Z
UID:746-1710720000-1710806399@kylesstrongheart.com
SUMMARY:Dr. Leroy McCloud Elementary – Afterschool Health Club
DESCRIPTION:Presented Kyle’s Story to 25 students in the Afterschool Health Club.
URL:https://kylesstrongheart.com/event/dr-leroy-mccloud-elementary-afterschool-health-club/
LOCATION:Dr. Leroy McCloud Elementary School\, Englewood\, NJ
CATEGORIES:Past Events
END:VEVENT
BEGIN:VEVENT
DTSTART;TZID=UTC:20231105T090000
DTEND;TZID=UTC:20231105T140000
DTSTAMP:20260420T165202
CREATED:20250804T192635Z
LAST-MODIFIED:20250804T192635Z
UID:942-1699174800-1699192800@kylesstrongheart.com
SUMMARY:American Heart Association Heart Walk (2023)
DESCRIPTION:
URL:https://kylesstrongheart.com/event/american-heart-association-heart-walk-2023/
LOCATION:Overpeck Park\, Ridgefield Park\, NJ
CATEGORIES:Past Events
END:VEVENT
END:VCALENDAR